BEGIN:VCALENDAR
VERSION:2.0
PRODID:-//East County Art Association - ECPv6.15.20//NONSGML v1.0//EN
CALSCALE:GREGORIAN
METHOD:PUBLISH
X-ORIGINAL-URL:https://eastcountyart.org
X-WR-CALDESC:Events for East County Art Association
REFRESH-INTERVAL;VALUE=DURATION:PT1H
X-Robots-Tag:noindex
X-PUBLISHED-TTL:PT1H
BEGIN:VTIMEZONE
TZID:America/Los_Angeles
BEGIN:DAYLIGHT
TZOFFSETFROM:-0800
TZOFFSETTO:-0700
TZNAME:PDT
DTSTART:20250309T100000
END:DAYLIGHT
BEGIN:STANDARD
TZOFFSETFROM:-0700
TZOFFSETTO:-0800
TZNAME:PST
DTSTART:20251102T090000
END:STANDARD
BEGIN:DAYLIGHT
TZOFFSETFROM:-0800
TZOFFSETTO:-0700
TZNAME:PDT
DTSTART:20260308T100000
END:DAYLIGHT
BEGIN:STANDARD
TZOFFSETFROM:-0700
TZOFFSETTO:-0800
TZNAME:PST
DTSTART:20261101T090000
END:STANDARD
BEGIN:DAYLIGHT
TZOFFSETFROM:-0800
TZOFFSETTO:-0700
TZNAME:PDT
DTSTART:20270314T100000
END:DAYLIGHT
BEGIN:STANDARD
TZOFFSETFROM:-0700
TZOFFSETTO:-0800
TZNAME:PST
DTSTART:20271107T090000
END:STANDARD
END:VTIMEZONE
BEGIN:VEVENT
DTSTART;TZID=America/Los_Angeles:20260620T100000
DTEND;TZID=America/Los_Angeles:20260620T130000
DTSTAMP:20260419T105626
CREATED:20260418T193142Z
LAST-MODIFIED:20260418T193142Z
UID:10000073-1781949600-1781960400@eastcountyart.org
SUMMARY:OceanLove Seascape Minis Workshop with Kathie Bishop
DESCRIPTION:Multi-Media Seascapes on Mini-Canvas\n\nCelebrate your love of the ocean with fun to create seaside scenes using acrylics\, seashells and sand with instructor\, Kathie Bishop\, at the East County Art Association this June 20th\, 10am-1pm!\nKathie will use a portable projector\, to make each step easy to follow. This workshop will focus on an appreciation of our oceans and marine life\, as well as promote the artists exhibiting during ECAA Ocean Love show. Mini easels are included. \nArt Mediums: Liquid Acrylics\, mini-easels and natural found objects from the\nbeach\, including sand\, seashells\, seaweed\, etc. \nThis workshop is for adults of any skill level. Great for first-time beginners. \nPROPOSED SCHEDULE\nSaturday Workshop – 2 hours – 10:00am – 1:00pm\no 10-10:30 am – Intro &amp; instruction demo\no 10:30-11:30 am – Paint mini-canvas\no 11:30-11:45 – 15 minute coffee break\no 11:45-12:45pm – Continue painting\no 12:45 – 1:00pm – Spray canvases (outdoors) with Krylon Acrylic Matte\nFinish to seal found objects to canvas. \nWORKSHOP DATE: Saturday June 20\, 2026 – 10am – 1:00pm \nAll materials supplied by the instructor.\nLiquid acrylic paints\, brushes\, mixing palettes\, 4”x 4” canvases\, Mod-Podge for\ncreating textures &amp; for adhering objects to canvas\, Krylon acrylic sealing spray.\n**Nature Journal Kit provided to new participants who have not received one in a\nprevious workshop.\nAdditional supplies provided by the artist/instructor:\n** Raffle Item: Royal Langnickle Acrylic Travel Set **\nMaterials Needed by Participants (If applicable): (e.g.\, pencils\, sketchbook\,\netc.) \nInstagram: kathiebishop1956\nFacebook: facebook.com/kathie.langston\nWebsite: kathiebishopart.com \nWorkshop Goal:\nParticipants take with them curiosity and wonder of our oceans and marine life and to inspire stewardship and conservation through the art\nexpression. In addition\, Kathie hopes to inspire creative skills in beginners who might otherwise not consider themselves artists. \nSIGN UP NOW! \n  \n 
URL:https://eastcountyart.org/event/oceanlove-seascape-minis-workshop-with-kathie-bishop/
LOCATION:East County Art Gallery\, 124 E. Main Street\, El Cajon\, CA\, 92020\, United States
CATEGORIES:All Events,Workshops
ATTACH;FMTTYPE=image/jpeg:https://eastcountyart.org/wp-content/uploads/2026/04/Ocean-Love-2026-poster.jpg
ORGANIZER;CN="East County Art Association":MAILTO:ecaa@eastcountyart.org
END:VEVENT
END:VCALENDAR